Workbook

Sheet Kriteria 1
A1: Warna kolom pernyataan | B1: Keterangan
B2: Pertanyaan Per Jenjang
B3: Pengisian Oleh UPPS
B4: Pengisian UPPS / Prodi
A5: Tidak Berwarna | B5: Pengisian Oleh Prodi
H7: Diisi oleh Auditi | L7: Diisi oleh Auditor pada saat Audit Dokumen & Audit Lapangan
A8: Kriteria 1 | B8: No. | C8: Pertanyaan | D8: Skor 4 | E8: Skor 3 | F8: Skor 2 | G8: Skor 1 | H8: Dokumen Pendukung | I8: Link Bukti dukung | J8: Penanggung-jawab/ Pengisi | K8: Skor | L8: Skor | M8: Permintaan Tindakan Koreksi (PTK) | N8: waktu penyelesaian PTK
A9: I. Visi, Misi, Tujuan, dan Strategi | B9: 1 | C9: Kesesuaian VMTS UPPS terhadap VMTS PT dan visi keilmuan PS yang dikelolanya | D9: Unit pengelola memiliki visi yang mencerminkan visi perguruan tinggi dan memayungi visi keilmuan terkait keunikan program studi serta didukung data konsistensi implementasinya. | E9: Unit pengelola memiliki visi yang mencerminkan visi perguruan tinggi dan memayungi visi keilmuan terkait keunikan program studi. | F9: Unit pengelola memiliki visi yang mencerminkan visi perguruan tinggi dan memayungi visi keilmuan terkait program studi. | G9: Unit pengelola memiliki visi yang mencerminkan visi perguruan tinggi namun tidak memayungi visi keilmuan terkait program studi. | J9: UPPS | K9: 4 | L9: 4
B10: 2 | C10: Mekanisme penyusunan VMTS UPPS melibatkan para pemangku kepentingan. 1) Pemangku kepentingan internal: mahasiswa, dosen, tendik, pengelola. 2) Pemangku kepentingan eksternal: lulusan, pengguna lulusan, mitra, pakar, organisasi profesi, dan pemerintah. | D10: Ada mekanisme dalam penyusunan dan penetapan visi, misi, tujuan dan strategi yang terdokumentasi serta ada keterlibatan semua pemangku kepentingan internal (dosen, mahasiswa dan tenaga kependidikan) dan eksternal (lulusan, pengguna lulusan dan pakar/mitra/organisasi profesi/pemerintah). | E10: Ada mekanisme dalam penyusunan dan penetapan visi, misi, tujuan dan strategi yang terdokumentasi serta ada keterlibatan pemangku kepentingan internal (dosen, mahasiswa dan tenaga kependidikan) dan pemangku kepentingan eksternal (lulusan dan pengguna lulusan). | F10: Ada mekanisme dalam penyusunan dan penetapan visi, misi, tujuan dan strategi yang terdokumentasi serta ada keterlibatan pemangku kepentingan internal (dosen dan mahasiswa) dan pemangku kepentingan eksternal (lulusan). | G10: Ada mekanisme dalam penyusunan dan penetapan visi, misi, tujuan dan strategi yang terdokumentasi namun tidak melibatkan pemangku kepentingan. | J10: UPPS | K10: 4 | L10: 4
B11: 3 | C11: Spesifikasi Program Studi | D11: Program studi memiliki spesifikasi yang dapat menunjukkan perbedaan dengan program studi yang sama di PT lain terkait keunikan program studi dan dapat menunjukkan perbedaan antar jenjang dalam satu UPPS serta mendukung pengembangan program studi | E11: Program studi memiliki spesifikasi yang dapat menunjukkan perbedaan dengan program studi yang sama di PT lain terkait keunikan program studi dan yang dapat menunjukkan perbedaan antar jenjang dalam satu UPPS namun kurang mendukung pengembangan program studi | F11: Program Studi memiliki spesifikasi yang dapat menunjukkan perbedaan dengan program studi yang sama di PT lain namun belum menunjukkan perbedaan spesifikasi antar jenjang dalam satu UPPS serta kurang mendukung pengembangan program studi | G11: Spesifikasi Program Studi tidak menunjukkan perbedaan dengan program studi yang sama di PT lain dan tidak tidak menunjukkan ada perbedaan spesifikasi antar jenjang dalam satu UPPS | J11: PRODI | K11: 4 | L11: 4
B12: 4 | C12: Strategi pencapaian tujuan disusun berdasarkan analisis yang sistematis, pada pelaksanaannya dilakukan pemantauan dan evaluasi yang ditindaklanjuti oleh UPPS | D12: Strategi efektif untuk mencapai tujuan • Disusun berdasarkan analisis yang sistematis • Ada rentang waktu pencapaian yang jelas • Indikator capaian yang jelas • Menggunakan metoda yang relevan • Dilakukan pemantauan dan evaluasi • Ditindaklanjuti. • Terdokumentasi | E12: • Strategi efektif untuk mencapai tujuan • Disusun berdasarkan analisis yang sistematis • Ada rentang waktu pencapaian yang jelas • Indikator capaian yang jelas • Menggunakan metoda yang relevan • Dilakukan pemantauan dan evaluasi • Terdokumentasi | F12: • Strategi efektif untuk mencapai tujuan • Disusun berdasarkan analisis yang sistematis • Ada rentang waktu pencapaian yang cukup jelas • Indikator capaian yang cukup jelas • Menggunakan metoda yang relevan • Tidak dilakukan pemantauan dan evaluasi • Dokumentasi cukup lengkap | G12: • Strategi efektif'untuk mencapai tujuan • Disusun berdasarkan analisis yang sistematis • Ada rentang waktu pencapaian yang kurang jelas • Indikator capaian yang kurang jelas • Tidak menggunakan metoda yang relevan • Tidak dilakukan pemantauan dan evaluasi • Dokumentasi kurang lengkap | J12: UPPS/PRODI | K12: 4 | L12: 4
C22: Pertanyaan Singkat | D22: Penilaian Auditee | E22: Penilaian Auditor | F22: Pertanyaan Lengkapnya
B23: 1 | C23: Kesesuaian VMTS UPPS terhadap VMTS PT dan visi keilmuan PS yang dikelolanya | D23: =K9 -> 4 | E23: =L9 -> 4 | F23: =C9 -> Kesesuaian VMTS UPPS terhadap VMTS PT dan visi keilmuan PS yang dikelolanya
B24: 2 | C24: Mekanisme penyusunan VMTS UPPS melibatkan para pemangku kepentingan. | D24: =K10 -> 4 | E24: =L10 -> 4 | F24: =C10 -> Mekanisme penyusunan VMTS UPPS melibatkan para pemangku kepentingan. 1) Pemangku kepentingan internal: mahasiswa, dosen, tendik, pengelola. 2) Pemangku kepentingan eksternal: lulusan, pengguna lulusan, mitra, pakar, organisasi profesi, dan pemerintah.
B25: 3 | C25: Spesifikasi Program Studi | D25: =K11 -> 4 | E25: =L11 -> 4 | F25: =C11 -> Spesifikasi Program Studi
B26: 4 | C26: Strategi pencapaian tujuan disusun berdasarkan analisis yang sistematis, pada pelaksanaannya dilakukan pemantauan dan evaluasi yang ditindaklanjuti oleh UPPS | D26: =K12 -> 4 | E26: =L12 -> 4 | F26: =C12 -> Strategi pencapaian tujuan disusun berdasarkan analisis yang sistematis, pada pelaksanaannya dilakukan pemantauan dan evaluasi yang ditindaklanjuti oleh UPPS

Sheet Kriteria 2
A1: Warna kolom pernyataan | B1: Keterangan
B2: Pertanyaan Per Jenjang
B3: Pengisian Oleh UPPS
B4: Pengisian UPPS / Prodi
A5: Tidak Berwarna | B5: Pengisian Oleh Prodi
H7: Diisi oleh Auditi | L7: Diisi oleh Auditor pada saat Audit Dokumen & Audit Lapangan
A8: Kriteria 2 | B8: No. | C8: Pertanyaan | D8: Skor 4 | E8: Skor 3 | F8: Skor 2 | G8: Skor 1 | H8: Dokumen Pendukung | I8: Link Bukti dukung | J8: Penanggung-jawab/ Pengisi | K8: Skor | L8: Skor | M8: Permintaan Tindakan Koreksi (PTK) | N8: waktu penyelesaian PTK
A9: II. TATA PAMONG, TATA KELOLA, KERJASAMA, SISTEM PENJAMINAN MUTU | B9: 1 | C9: Kegiatan kerja sama dengan instansi dalam dan luar negeri yang dilakukan oleh Perguruan Tinggi/Unit Pengelola Program Studi, dan Program Studi dalam tiga tahun terakhir. 1. Mendukung pelaksanaan Tridarma PT secara lengkap yang mendukung visi dan misi. 2. Kerja sama dengan wahana praktik yang relevan dengan PS. 3. Ketersediaan dokumen perjanjian kerja sama (MoU) 4. Ketersediaan laporan pelaksanaan kegiatan kerja sama 5. Kerja sama dalam negeri minimal delapan institusi lain yang bervariasi, kerja sama luar negeri minimal tiga institusi luar negeri | D9: Kegiatan kerja sama memenuhi 5 kriteria | E9: Kegiatan kerja sama memenuhi 4 dari 5 kriteria | F9: Kegiatan kerja sama memenuhi 3 dari 5 kriteria | G9: Kegiatan kerja sama memenuhi 2 dari 5 kriteria | J9: UPPS | K9: 4 | L9: 4
B10: 2 | C10: Kelengkapan struktur organisasi dan keefektifan penyelenggaraan organisasi pada UPPS. | D10: Unit pengelola Program Studi memiliki dokumen formal struktur organisasi dan tata kerja yang dilengkapi tugas dan fungsinya, serta telah berjalan dengan konsisten dan menjamin tata pamong yang baik serta berjalan efektif dan efisien. | E10: Unit pengelola Program Studi memiliki dokumen formal struktur organisasi dan tata kerja yang dilengkapi tugas dan fungsinya, serta telah berjalan dengan konsisten dan menjamin tata pamong yang baik. | F10: Unit pengelola Program Studi memiliki dokumen formal struktur organisasi dan tata kerja yang dilengkapi tugas dan fungsinya, serta telah berjalan dengan konsisten. | G10: Unit pengelola Program Studi memiliki dokumen formal struktur organisasi dan tata kerja namun tugas dan fungsi tidak menjamin terlaksananya tata pamong yang baik. | J10: UPPS | K10: 4 | L10: 4
B11: 3 | C11: Pemenuhan lima pilar sistem tata pamong pada UPPS. 1. Kredibel 2. Transparan 3. Akuntabel 4. Bertanggung jawab 5. Adil | D11: Unit pengelola Program Studi memiliki praktek yang baik (best practices) dalam menerapkan tata pamong yang memenuhi 5 kaidah good governance untuk menjamin penyelenggaraan program studi yang bermutu. | E11: Unit pengelola Program Studi memiliki praktek baik (best practices) dalam menerapkan tata pamong yang memenuhi 4 kaidah good governance untuk menjamin penyelenggaraan program studi yang bermutu. | F11: Unit pengelola Program Studi memiliki praktek baik (best practices) dalam menerapkan tata pamong yang memenuhi 3 kaidah good governance untuk menjamin penyelenggaraan program studi yang bermutu. | G11: Unit pengelola Program Studi memiliki praktek baik (best practices) dalam menerapkan tata pamong yang memenuhi 2 kaidah good governance untuk menjamin penyelenggaraan program studi yang bermutu. | J11: UPPS | K11: 4 | L11: 3
B12: 4 | C12: Keterlaksanaan Sistem Penjaminan Mutu Internal (akademik dan non akademik) pada UPPS yang dibuktikan dengan keberadaan 4 aspek sebagai berikut: 1) dokumen legal pembentukan unsur pelaksana penjaminan mutu. 2) ketersediaan dokumen mutu: kebijakan SPMI, manual SPMI, standar SPMI, dan formulir SPMI. 3) terlaksananya siklus penjaminan mutu (siklus PPEPP) 4) bukti sahih efektivitas pelaksanaan penjaminan mutu. | D12: Unit Pengelola Program Studi telah melaksanakan SPMI yang memenuhi 4 aspek sebagai berikut: 1) dokumen legal pembentukan unsur pelaksana penjaminan mutu. 2) ketersediaan dokumen mutu: kebijakan SPMI, manual SPMI, standar SPMI, dan formulir SPMI. 3) terlaksananya siklus penjaminan mutu (siklus PPEPP) 4) bukti sahih efektivitas pelaksanaan penjaminan mutu. | E12: Unit Pengelola Program Studi telah melaksanakan SPMI yang memenuhi 3 aspek sebagai berikut: 1) dokumen legal pembentukan unsur pelaksana penjaminan mutu. 2) ketersediaan dokumen mutu: kebijakan SPMI, manual SPMI, standar SPMI, dan formulir SPMI. 3) terlaksananya siklus penjaminan mutu (siklus PPEPP). | F12: Unit Pengelola Program Studi telah melaksanakan SPMI yang memenuhi 2 aspek sebagai berikut: 1) dokumen legal pembentukan unsur pelaksana penjaminan mutu. 2) ketersediaan dokumen mutu: kebijakan SPMI, manual SPMI, standar SPMI, dan formulir SPMI. 3) Siklus kegiatan SPMI baru dilaksanakan pada tahapan penetapan standar dan pelaksanaan standar pendidikan tinggi. | G12: Unit Pengelola Program Studi telah memiliki dokumen legal pembentukan unsur pelaksana penjaminan mutu | J12: UPPS | K12: 4 | L12: 4
B13: 5 | C13: Mutu, manfaat, kepuasan dan keberlanjutan kerjasama pendidikan, penelitian dan PkM yang relevan dengan program studi pada UPPS. Unit pengelola memiliki bukti yang sahih terkait kerjasama yang ada telah memenuhi 4 aspek berikut: 1) memberikan manfaat bagi PS dalam pemenuhan proses pembelajaran, penelitian, dan PkM. 2) memberikan peningkatan kinerja tridarma dan fasilitas pendukung PS. 3) memberikan kepuasan kepada mitra. 4) menjamin keberlanjutan kerjasama dan hasilnya. | D13: Unit pengelola Program Studi memiliki bukti yang sahih terkait kerjasama yang ada telah memenuhi 4 aspek. | E13: Unit pengelola Program Studi memiliki bukti yang sahih terkait kerjasama yang ada telah memenuhi aspek 1 dan 2. | F13: Unit pengelola Program Studi memiliki bukti yang sahih terkait kerjasama yang ada telah memenuhi aspek 1. | G13: Unit pengelola Program Studi tidak memiliki bukti pelaksanaan kerjasama. | J13: UPPS/PRODI | K13: 4 | L13: 4
C22: Pertanyaan Singkat | D22: Penilaian Auditee | E22: Penilaian Auditor | F22: Pertanyaan Lengkapnya
B23: 1 | C23: Kegiatan kerja sama dengan instansi dalam dan luar negeri yang dilakukan oleh PT/UPPS, dan Program Studi dalam tiga tahun terakhir. | D23: =K9 -> 4 | E23: =L9 -> 4 | F23: =C9 -> Kegiatan kerja sama dengan instansi dalam dan luar negeri yang dilakukan oleh Perguruan Tinggi/Unit Pengelola Program Studi, dan Program Studi dalam tiga tahun terakhir. 1. Mendukung pelaksanaan Tridarma PT secara lengkap yang mendukung visi dan misi. 2. Kerja sama dengan wahana praktik yang relevan dengan PS. 3. Ketersediaan dokumen perjanjian kerja sama (MoU) 4. Ketersediaan laporan pelaksanaan kegiatan kerja sama 5. Kerja sama dalam negeri minimal delapan institusi lain yang bervariasi, kerja sama luar negeri minimal tiga institusi luar negeri
B24: 2 | C24: Kelengkapan struktur organisasi dan keefektifan penyelenggaraan organisasi pada UPPS. | D24: =K10 -> 4 | E24: =L10 -> 4 | F24: =C10 -> Kelengkapan struktur organisasi dan keefektifan penyelenggaraan organisasi pada UPPS.
B25: 3 | C25: Pemenuhan lima pilar sistem tata pamong pada UPPS. | D25: =K11 -> 4 | E25: =L11 -> 3 | F25: =C11 -> Pemenuhan lima pilar sistem tata pamong pada UPPS. 1. Kredibel 2. Transparan 3. Akuntabel 4. Bertanggung jawab 5. Adil
B26: 4 | C26: Keterlaksanaan Sistem Penjaminan Mutu Internal pada UPPS yang dibuktikan dengan keberadaan 4 aspek. | D26: =K12 -> 4 | E26: =L12 -> 4 | F26: =C12 -> Keterlaksanaan Sistem Penjaminan Mutu Internal (akademik dan non akademik) pada UPPS yang dibuktikan dengan keberadaan 4 aspek sebagai berikut: 1) dokumen legal pembentukan unsur pelaksana penjaminan mutu. 2) ketersediaan dokumen mutu: kebijakan SPMI, manual SPMI, standar SPMI, dan formulir SPMI. 3) terlaksananya siklus penjaminan mutu (siklus PPEPP) 4) bukti sahih efektivitas pelaksanaan penjaminan mutu.
B27: 5 | C27: Mutu, manfaat, kepuasan dan keberlanjutan kerjasama pendidikan, penelitian dan PkM yang relevan dengan program studi pada UPPS. | D27: =K13 -> 4 | E27: =L13 -> 4 | F27: =C13 -> Mutu, manfaat, kepuasan dan keberlanjutan kerjasama pendidikan, penelitian dan PkM yang relevan dengan program studi pada UPPS. Unit pengelola memiliki bukti yang sahih terkait kerjasama yang ada telah memenuhi 4 aspek berikut: 1) memberikan manfaat bagi PS dalam pemenuhan proses pembelajaran, penelitian, dan PkM. 2) memberikan peningkatan kinerja tridarma dan fasilitas pendukung PS. 3) memberikan kepuasan kepada mitra. 4) menjamin keberlanjutan kerjasama dan hasilnya.

Sheet Kriteria 3
A1: Warna kolom pernyataan | B1: Keterangan
B2: Pertanyaan Per Jenjang
B3: Pengisian Oleh UPPS
B4: Pengisian UPPS / Prodi
A5: Tidak Berwarna | B5: Pengisian Oleh Prodi
H7: Diisi oleh Auditi | L7: Diisi oleh Auditor pada saat Audit Dokumen & Audit Lapangan
A8: Kriteria 3 | B8: No. | C8: Pertanyaan | D8: Skor 4 | E8: Skor 3 | F8: Skor 2 | G8: Skor 1 | H8: Dokumen Pendukung | I8: Link Bukti dukung | J8: Penanggung-jawab/ Pengisi | K8: Skor | L8: Skor | M8: Permintaan Tindakan Koreksi (PTK) | N8: waktu penyelesaian PTK
A9: III. MAHASISWA | B9: 1 | C9: Rasio calon mahasiswa yang ikut seleksi terhadap daya tampung dalam lima tahun terakhir | D9: Jika rasio ≥ 4 | E9: Jika 2 < rasio < 4, maka skor = 2 x (rasio – 2) | J9: PRODI | K9: 4 | L9: 4
B10: 2 | C10: Rasio total mahasiswa baru pada TS, terhadap total mahasiswa dalam lima tahun terakhir pada program studi (RM) | D10: 0.18 ≤ RM < 0.22 | E10: Jika 0.08 < RM < 0.18, maka skor = (40 x RM) – (16/5). Jika 0.22 ≤ RM < 0.40, maka skor = (80 – 200 x RM)/9. | J10: PRODI | K10: 3 | L10: 3
B11: 3 | C11: Upaya yang dilakukan UPPS untuk meningkatkan animo calon mahasiswa dan bukti keberhasilannya, dengan memenuhi aspek berikut: 1) dilaksanakan setiap tahun, 2) dilakukan monitoring dan evaluasi terhadap hasil, 3) terdapat umpan balik, 4) dilakukan tindak lanjut. | D11: Unit Pengelola Program Studi melakukan upaya untuk meningkatkan animo calon mahasiswa yang ditunjukkan dengan peningkatan signifikan dan memenuhi 4 aspek. | E11: Unit Pengelola Program Studi melakukan upaya untuk meningkatkan animo calon mahasiswa yang ditunjukkan dengan peningkatan signifikan dan memenuhi 3 aspek. | F11: Unit Pengelola Program Studi melakukan upaya untuk meningkatkan animo calon mahasiswa yang ditunjukkan dengan peningkatan signifikan dan memenuhi 2 aspek. | G11: Unit Pengelola Program Studi melakukan upaya untuk meningkatkan animo calon mahasiswa yang ditunjukkan dengan peningkatan signifikan dan memenuhi 1 aspek atau tidak ada upaya. | J11: UPPS | K11: 4 | L11: 4
B12: 4 | C12: Akses dan mutu layanan bidang penalaran, minat bakat, kesehatan, beasiswa, bimbingan dan konseling, serta asrama pada UPPS, dengan memenuhi aspek berikut: 1) pelaksanaan, 2) dilakukan monitoring dan evaluasi terhadap hasil, 3) terdapat umpan balik, 4) dilakukan tindak lanjut. | D12: Akses dan mutu layanan sangat baik dalam semua bidang dan memenuhi 4 aspek, serta terdapat indikator kinerja tambahan yang melampaui SN Dikti. | E12: Akses dan mutu layanan baik dalam semua bidang dan memenuhi 3 aspek. | F12: Akses dan mutu layanan cukup baik dalam semua bidang dan memenuhi 2 aspek. | G12: Akses dan mutu layanan kurang dalam semua bidang dan memenuhi 1 aspek. | J12: UPPS | K12: 4 | L12: 3
B13: 5 | C13: Audit internal terhadap sistem seleksi mahasiswa dan layanan mahasiswa pada Unit Pengelola Program Studi Kriteria penilaian: • Ada panduan penerimaan mahasiswa • Ada bukti pelaksanaan audit internal sistem seleksi mahasiswa dan layanan mahasiswa • Ada bukti tindaklanjut untuk perbaikan sistem seleksi mahasiswa dan layanan mahasiswa | D13: Ada panduan, bukti pelaksanaan dan bukti tindaklanjut seluruh hasil pelaksanaan, serta terdapat tinjauan manajemen sebagai bentuk pengendalian. | E13: Ada panduan, bukti pelaksanaan dan sebagian bukti tindaklanjut | F13: Ada panduan dan bukti pelaksanaan namun tidak ditindaklanjuti | G13: Ada panduan dan dilaksanakan namun tidak ada bukti pelaksanaan maupun tindaklanjut | J13: UPPS | K13: 4 | L13: 4
C22: Pertanyaan Singkat | D22: Penilaian Auditee | E22: Penilaian Auditor | F22: Pertanyaan Lengkapnya
B23: 1 | C23: Rasio calon mahasiswa yang ikut seleksi terhadap daya tampung dalam lima tahun terakhir | D23: =K9 -> 4 | E23: =L9 -> 4 | F23: =C9 -> Rasio calon mahasiswa yang ikut seleksi terhadap daya tampung dalam lima tahun terakhir
B24: 2 | C24: Rasio total mahasiswa baru pada TS, terhadap total mahasiswa dalam lima tahun terakhir pada program studi (RM) | D24: =K10 -> 3 | E24: =L10 -> 3 | F24: =C10 -> Rasio total mahasiswa baru pada TS, terhadap total mahasiswa dalam lima tahun terakhir pada program studi (RM)
B25: 3 | C25: Upaya yang dilakukan UPPS untuk meningkatkan animo calon mahasiswa dan bukti keberhasilannya. | D25: =K11 -> 4 | E25: =L11 -> 4 | F25: =C11 -> Upaya yang dilakukan UPPS untuk meningkatkan animo calon mahasiswa dan bukti keberhasilannya, dengan memenuhi aspek berikut: 1) dilaksanakan setiap tahun, 2) dilakukan monitoring dan evaluasi terhadap hasil, 3) terdapat umpan balik, 4) dilakukan tindak lanjut.
B26: 4 | C26: Akses dan mutu layanan bidang penalaran, minat bakat, kesehatan, beasiswa, bimbingan dan konseling, serta asrama pada UPPS. | D26: =K12 -> 4 | E26: 3 | F26: =C12 -> Akses dan mutu layanan bidang penalaran, minat bakat, kesehatan, beasiswa, bimbingan dan konseling, serta asrama pada UPPS, dengan memenuhi aspek berikut: 1) pelaksanaan, 2) dilakukan monitoring dan evaluasi terhadap hasil, 3) terdapat umpan balik, 4) dilakukan tindak lanjut.
B27: 5 | C27: Audit internal terhadap sistem seleksi mahasiswa dan layanan mahasiswa pada Unit Pengelola Program Studi | D27: =K13 -> 4 | E27: =L13 -> 4 | F27: =C13 -> Audit internal terhadap sistem seleksi mahasiswa dan layanan mahasiswa pada Unit Pengelola Program Studi Kriteria penilaian: • Ada panduan penerimaan mahasiswa • Ada bukti pelaksanaan audit internal sistem seleksi mahasiswa dan layanan mahasiswa • Ada bukti tindaklanjut untuk perbaikan sistem seleksi mahasiswa dan layanan mahasiswa

Sheet Kriteria 4
A1: Warna kolom pernyataan | B1: Keterangan
B2: Pertanyaan Per Jenjang
B3: Pengisian Oleh UPPS
B4: Pengisian UPPS / Prodi
A5: Tidak Berwarna | B5: Pengisian Oleh Prodi
H6: Diisi oleh Auditi | L6: Diisi oleh Auditor pada saat Audit Dokumen & Audit Lapangan
A7: Kriteria 4 | B7: No. | C7: Pertanyaan | D7: Skor 4 | E7: Skor 3 | F7: Skor 2 | G7: Skor 1 | H7: Dokumen Pendukung | I7: Link Bukti dukung | J7: Penanggung-jawab/ Pengisi | K7: Skor | L7: Skor | M7: Permintaan Tindakan Koreksi (PTK) | N7: waktu penyelesaian PTK
A8: IV. Sumber Daya Manusia | B8: 1 | C8: Presentase dosen tetap UPPS dengan jabatan minimal lektor kepala dan guru besar | D8: DTLK ≥ 30%, | E8: 0 <DTLK< 30%, maka skor = (200 x DT) / 15 | J8: UPPS | K8: 4 | L8: 4
C9: Jabatan akademik DTPS Program Sarjana dan Sarjana Terapan | D9: Jika NDGB dan NDLK ≥ 50% | E9: Jika 40% ≤ NDGB dan NDLK < 50% | F9: Jika 30% ≤ NDGB dan NDLK < 40% | G9: Jika NDGB dan NDLK < 30% | J9: PRODI
C10: Program Master | D10: Jika NDGB dan NDLK ≥ 70% | E10: Jika 50% ≤ NDGB dan NDLK < 70% | F10: Jika 30% ≤ NDGB dan NDLK < 50% | G10: Jika NDGB dan NDLK < 30% | J10: PRODI
C11: Program Doktor | D11: Jika NDGB ≥ 70% | E11: Jika 50% ≤ NDGB < 70% | F11: Jika 30% ≤ NDGB < 50% | G11: Jika NDGB < 30% | J11: PRODI
B12: 2 | C12: Persentase dosen tetap UPPS yang berpendidikan S-3/Sp-2. | D12: DTS3 ≥ 30%, | E12: 0 ≤ DTS3 < 30%, maka skor = 2 + [(10 x DTS3) / 3] | J12: UPPS | K12: 4 | L12: 4
B13: 3 | C13: Persentase dosen tetap yang memiliki jabatan akademik minimal lektor kepala yang bidang keahliannya sesuai dengan program studi. | D13: DTLK ≥ 20% | E13: 0 < DTLK< 20%, maka skor = 1 + (3 x DTLK) /0,2 | J13: PRODI | K13: 4 | L13: 4
B14: 4 | C14: Persentase dosen tetap yang berpendidikan S-3/Sp-2 sesuai bidang keahlian program studi | D14: DTS3 ≥ 20% | E14: 0 ≤ DTS3 < 20%, maka skor = 2 + (DTS3 /0,1) | J14: PRODI | K14: 4 | L14: 4
B15: 5 | C15: Persentase dosen tetap yang memiliki Sertifikat Pendidik/ Sertifikat Dosen | D15: DTSP≥ 40% | E15: DTSP < 40%, maka skor = 10 x DTSP | J15: PRODI | K15: 4 | L15: 4
B16: 6 | C16: Persentase dosen tetap yang memiliki Sertifikat Kompetensi/Surat Tanda Registrasi | D16: DTSK≥ 90% | E16: 10% <DTSK< 90%, maka skor = [(10 x DTSK) – 1] / 2 | J16: PRODI | K16: 4 | L16: 4
B17: 7 | C17: Rasio mahasiswa terhadap dosen yang bidang keahliannya sesuai dengan bidang program studi | D17: 17 ≤ RMD ≤ 23 | E17: Jika 23 < RMD < 60, maka skor = 4 x (60 - RMD) / 37. Jika RMD < 17, maka skor = 4 x RMD / 17 | J17: PRODI | K17: 3.7 | L17: 4
C18: Program Sarjana/Sarjana Terapan | D18: jika RMD pada TS paling tinggi 1 : 60 | G18: Jika RMD pada TS lebih dari 1 : 60 | J18: PRODI
C19: Program S2 Akademik | D19: jika RMD pada TS paling tinggi 1 : 20 | G19: Jika RMD pada TS lebih dari 1 : 20 | J19: PRODI
C20: Program S2 Terapan | D20: jika RMD pada TS paling tinggi 1 : 30 | G20: Jika RMD pada TS lebih dari 1 : 30 | J20: PRODI
C21: Program Doktor | D21: jika RMD pada TS paling tinggi 1 : 10 | G21: Jika RMD pada TS lebih dari 1 : 10 | J21: PRODI
B22: 8 | C22: Rata-rata beban dosen per semester, atau rata-rata FTE (Fulltime Teaching Equivalent) | D22: 12 ≤ RFTE ≤ 16 sks | E22: 5 <RFTE <12 sks, maka skor = (RFTE – 3) / 2. 16 <RFTE <21 sks, maka skor = (71 – 3 x RFTE) / 8. | J22: UPPS | K22: 4 | L22: 4
D23: Jika 12 ≤ EWMP ≤ 16 | E23: Jika 10 ≤ EWMP ≤ 12 atau 16 ≤ EWMP ≤ 18 | F23: Jika 6 ≤ EWMP ≤ 10 atau 18 ≤ EWMP ≤ 20 | G23: Jika EWMP < 6 atau EWMP > 20 | J23: UPPS
B24: 9 | C24: Persentase jumlah dosen tidak tetap, terhadap jumlah seluruh dosen | D24: DTT ≤ 10% | E24: 10% < DTT ≤ 30% | F24: 30% < DTT ≤ 40% | G24: DTT > 40% | J24: PRODI | K24: 4 | L24: 4
B25: 10 | C25: Upaya pengembangan dosen oleh UPPS. | D25: Unit pengelola Program Studi merencanakan dan mengembangkan dosen tetap program studi (DTPS) mengikuti rencana pengembangan SDM di perguruan tinggi (Renstra PT) secara konsisten, dalam rangka pencapaian rasio dosen tetap dibanding jumlah mahasiswa, bimbingan akademik dan bimbingan tugas akhir dengan ideal serta terdapat indikator kinerja tambahan yang melampaui SN DIKTI. | E25: Unit pengelola Program Studi merencanakan dan mengembangkan dosen tetap program studi (DTPS) mengikuti rencana pengembangan SDM di perguruan tinggi (Renstra PT) secara konsisten, dalam rangka pencapaian rasio dosen tetap dibanding jumlah mahasiswa, bimbingan akademik dan bimbingan tugas akhir dengan baik. | F25: Unit pengelola Program Studi merencanakan dan mengembangkan dosen tetap program studi (DTPS) mengikuti rencana pengembangan SDM di perguruan tinggi (Renstra PT) secara konsisten, dalam rangka pencapaian rasio dosen tetap dibanding jumlah mahasiswa, bimbingan akademik dan bimbingan tugas akhir dengan layak. | G25: Unit pengelola Program Studi merencanakan dan mengembangkan dosen tetap program studi (DTPS) tidak mengikuti rencana pengembangan SDM di perguruan tinggi (Renstra PT), dalam rangka pencapaian rasio dosen tetap dibanding jumlah mahasiswa, bimbingan akademik dan bimbingan tugas akhir masih rendah. | J25: UPPS | K25: 4 | L25: 4
B26: 11 | C26: Kualifikasi dan kecukupan tenaga kependidikan pada UPPS berdasarkan jenis pekerjaannya (administrasi, pustakawan, laboran, teknisi, dll.) sesuai kualifikasi pendidikan minimum dan kecukupan jumlah untuk mendukung proses pembelajaran sesuai dengan kebutuhan program studi. | D26: Unit pengelola Program Studi memiliki tenaga kependidikan yang memenuhi tingkat kecukupan dan kualifikasi berdasarkan kebutuhan layanan program studi dalam pelaksanaan akademik dan fungsi unit pengelola dengan sangat baik. | E26: Unit pengelola Program Studi memiliki tenaga kependidikan yang memenuhi tingkat kecukupan dan kualifikasi berdasarkan kebutuhan layanan program studi dalam pelaksanaan akademik dan fungsi unit pengelola dengan baik. | F26: Unit pengelola Program Studi memiliki tenaga kependidikan yang memenuhi tingkat kecukupan dan kualifikasi berdasarkan kebutuhan layanan program studi dalam pelaksanaan akademik dan fungsi unit pengelola dengan cukup. | G26: Unit pengelola Program Studi memiliki tenaga kependidikan yang memenuhi tingkat kecukupan dan kualifikasi berdasarkan kebutuhan layanan program studi dalam pelaksanaan akademik dan fungsi unit pengelola dengan kurang baik | J26: UPPS | K26: 4 | L26: 4
B27: 12 | C27: Monitoring dan evaluasi kinerja dosen terhadap tridarma dan tenaga kependidikan dalam layanan pada program studi yang mencakup unsur-unsur sebagai berikut: 1. Pengembagan proses pembelajaran (penyusunan kurikulum sampai dengan evaluasi pembelajaran) 2. Pelaksanaan proses pembelajaran 3. Memiliki agenda penelitian 4. Melaksanaan penelitian 5. Memiliki agenda PkM 6. Melaksanakan PkM 7. Ditindaklanjuti untuk proses perbaikan tridarma | D27: Program studi memiliki bukti yang sahih tentang sistem monitoring dan evaluasi kinerja dosen terhadap tridarma dan tenaga kependidikan pada program studi mencakup 7 aspek, serta terdapat tinjauan manajemen sebagai bentuk pengendalian. | E27: Program studi memiliki bukti yang sahih tentang sistem monitoring dan evaluasi kinerja dosen terhadap tridarma dan tenaga kependidikan pada program studi mencakup 6 aspek. | F27: Program studi memiliki bukti yang sahih tentang sistem monitoring dan evaluasi kinerja dosen terhadap tridarma dan tenaga kependidikan pada program studi mencakup 5 aspek. | G27: Program studi memiliki bukti yang sahih tentang sistem monitoring dan evaluasi kinerja dosen terhadap tridarma dan tenaga kependidikan pada program studi mencakup 4 aspek. | J27: PRODI | K27: 4 | L27: 4
C32: Pertanyaan Singkat | D32: Penilaian Auditee | E32: Penilaian Auditor | F32: Pertanyaan Lengkapnya
B33: 1 | C33: Presentase dosen tetap UPPS dengan jabatan minimal lektor kepala dan guru besar | D33: =K8 -> 4 | E33: =L8 -> 4 | F33: =C8 -> Presentase dosen tetap UPPS dengan jabatan minimal lektor kepala dan guru besar
B34: 2 | C34: Persentase dosen tetap UPPS yang berpendidikan S-3/Sp-2. | D34: =K12 -> 4 | E34: =L12 -> 4 | F34: =C12 -> Persentase dosen tetap UPPS yang berpendidikan S-3/Sp-2.
B35: 3 | C35: Persentase dosen tetap yang memiliki jabatan akademik minimal lektor kepala yang bidang keahliannya sesuai dengan program studi. | D35: =K13 -> 4 | E35: =L13 -> 4 | F35: =C13 -> Persentase dosen tetap yang memiliki jabatan akademik minimal lektor kepala yang bidang keahliannya sesuai dengan program studi.
B36: 4 | C36: Persentase dosen tetap yang berpendidikan S-3/Sp-2 sesuai bidang keahlian program studi | D36: =K14 -> 4 | E36: =L14 -> 4 | F36: =C14 -> Persentase dosen tetap yang berpendidikan S-3/Sp-2 sesuai bidang keahlian program studi
B37: 5 | C37: Persentase dosen tetap yang memiliki Sertifikat Pendidik/ Sertifikat Dosen | D37: =K15 -> 4 | E37: =L15 -> 4 | F37: =C15 -> Persentase dosen tetap yang memiliki Sertifikat Pendidik/ Sertifikat Dosen
B38: 6 | C38: Persentase dosen tetap yang memiliki Sertifikat Kompetensi/Surat Tanda Registrasi | D38: =K16 -> 4 | E38: =L16 -> 4 | F38: =C16 -> Persentase dosen tetap yang memiliki Sertifikat Kompetensi/Surat Tanda Registrasi
B39: 7 | C39: Rasio mahasiswa terhadap dosen yang bidang keahliannya sesuai dengan bidang program studi | D39: =K17 -> 3.7 | E39: =L17 -> 4 | F39: =C17 -> Rasio mahasiswa terhadap dosen yang bidang keahliannya sesuai dengan bidang program studi
B40: 8 | C40: Rata-rata beban dosen per semester, atau rata-rata FTE (Fulltime Teaching Equivalent) | D40: 4 | E40: =L22 -> 4 | F40: =C22 -> Rata-rata beban dosen per semester, atau rata-rata FTE (Fulltime Teaching Equivalent)
B41: 9 | C41: Persentase jumlah dosen tidak tetap, terhadap jumlah seluruh dosen | D41: =K24 -> 4 | E41: =L24 -> 4 | F41: =C24 -> Persentase jumlah dosen tidak tetap, terhadap jumlah seluruh dosen
B42: 10 | C42: Upaya pengembangan dosen oleh UPPS. | D42: =K25 -> 4 | E42: =L25 -> 4 | F42: =C25 -> Upaya pengembangan dosen oleh UPPS.
B43: 11 | C43: Kualifikasi dan kecukupan tenaga kependidikan pada UPPS berdasarkan jenis pekerjaannya. | D43: =K26 -> 4 | E43: =L26 -> 4 | F43: =C26 -> Kualifikasi dan kecukupan tenaga kependidikan pada UPPS berdasarkan jenis pekerjaannya (administrasi, pustakawan, laboran, teknisi, dll.) sesuai kualifikasi pendidikan minimum dan kecukupan jumlah untuk mendukung proses pembelajaran sesuai dengan kebutuhan program studi.
B44: 12 | C44: Monitoring dan evaluasi kinerja dosen terhadap tridarma dan tenaga kependidikan dalam layanan pada program studi. | D44: =K27 -> 4 | E44: =L27 -> 4 | F44: =C27 -> Monitoring dan evaluasi kinerja dosen terhadap tridarma dan tenaga kependidikan dalam layanan pada program studi yang mencakup unsur-unsur sebagai berikut: 1. Pengembagan proses pembelajaran (penyusunan kurikulum sampai dengan evaluasi pembelajaran) 2. Pelaksanaan proses pembelajaran 3. Memiliki agenda penelitian 4. Melaksanaan penelitian 5. Memiliki agenda PkM 6. Melaksanakan PkM 7. Ditindaklanjuti untuk proses perbaikan tridarma

Sheet Kriteria 5
A1: Warna kolom pernyataan | B1: Keterangan
B2: Pertanyaan Per Jenjang
B3: Pengisian Oleh UPPS
B4: Pengisian UPPS / Prodi
A5: Tidak Berwarna | B5: Pengisian Oleh Prodi
H6: Diisi oleh Auditi | L6: Diisi oleh Auditor pada saat Audit Dokumen & Audit Lapangan
A7: Kriteria 5 | B7: No. | C7: Pertanyaan | D7: Skor 4 | E7: Skor 3 | F7: Skor 2 | G7: Skor 1 | H7: Dokumen Pendukung | I7: Link Bukti dukung | J7: Penanggung-jawab/ Pengisi | K7: Skor | L7: Skor | M7: Permintaan Tindakan Koreksi (PTK) | N7: waktu penyelesaian PTK
A8: V. Keuangan, Sarana, dan Prasarana | B8: 1 | C8: Keuangan : data penggunaan dana yang dikelola oleh UPPS dan data penggunaan dana yang dialokasikan ke program studi yang diakreditasi dalam TS diisi di Tabel 4 Biaya operasional pendidikan Sarjana/Sarjana Terapan | D8: Rata-rata dana operasional pendidikan/mahasiswa/ tahun lebih dari 20jt rupiah | E8: Rata-rata dana operasional pendidikan/mahasiswa/ tahun 10-20jt rupiah | F8: Rata-rata dana operasional pendidikan/mahasiswa/ tahun 5-10jt rupiah | G8: Rata-rata dana operasional pendidikan/mahasiswa/ tahun kurang dari 5jt rupiah | J8: UPPS / PRODI | K8: 4 | L8: 3
C9: Biaya operasional pendidikan Magister | D9: Rata-rata dana operasional pendidikan/mahasiswa/ tahun lebih dari 28jt rupiah | E9: Rata-rata dana operasional pendidikan/mahasiswa/ tahun 20 - 28 juta rupiah | F9: Rata-rata dana operasional pendidikan/mahasiswa/ tahun 10 – 19 juta rupiah | G9: Rata-rata dana operasional pendidikan/mahasiswa/ tahun kurang dari 10 juta rupiah | J9: UPPS / PRODI
C10: Biaya operasional pendidikan Doktor | D10: Rata-rata dana operasional pendidikan/mahasiswa/ tahun lebih dari 40jt rupiah | E10: Rata-rata dana operasional pendidikan/mahasiswa/ tahun 30 – 40 juta rupiah | F10: Rata-rata dana operasional pendidikan/mahasiswa/ tahun 20 -29 juta | G10: Rata-rata dana operasional pendidikan/mahasiswa/ tahun kurang dari 20 juta rupiah | J10: UPPS / PRODI
B11: 2 | C11: Realisasi investasi (SDM, sarana dan prasarana) yang mendukung penyelenggaraan tridharma. | D11: Realisasi investasi (SDM, sarana dan prasarana) memenuhi seluruh kebutuhan akan penyelenggaraan program pendidikan, penelitian dan PkM serta memenuhi standar perguruan tinggi terkait pendidikan, penelitian dan PkM. | E11: Realisasi investasi (SDM, sarana dan prasarana) hanya memenuhi sebagian kebutuhan akan penyelenggaraan program pendidikan, penelitian dan PkM serta memenuhi standar perguruan tinggi terkait pendidikan, penelitian dan PkM. | F11: Realisasi investasi (SDM, sarana dan prasarana) hanya memenuhi kebutuhan akan penyelenggaraan program pendidikan serta memenuhi standar perguruan tinggi terkait pendidikan. | G11: Realisasi investasi (SDM, sarana dan prasarana) belum memenuhi kebutuhan akan penyelenggaraan program pendidikan. | J11: UPPS | K11: 4 | L11: 3
B12: 3 | C12: Kecukupan dana untuk menjamin pencapaian capaian pembelajaran. | D12: Dana dapat menjamin keberlangsungan operasional tridharma, pengembangan dalam TS serta memiliki kecukupan dana untuk rencana pengembangan pada TS yang didukung oleh sumber pendanaan yang realistis. | E12: Dana dapat menjamin keberlangsungan operasional tridharma serta pengembangan dalam TS. | F12: Dana dapat menjamin keberlangsungan operasional tridharma dan sebagian kecil pengembangan | G12: Dana dapat menjamin keberlangsungan operasional dan tidak ada untuk pengembangan. | J12: UPPS / PRODI | K12: 4 | L12: 3
B13: 4 | C13: Sarana dan Prasarana : Kecukupan, aksesibilitas dan mutu sarana dan prasarana untuk menjamin pencapaian capaian pembelajaran dan meningkatkan suasana akademik. | D13: UPPS menyediakan sarana dan prasarana yang mutakhir serta aksesibiltas yang cukup untuk menjamin pencapaian capaian pembelajaran dan meningkatkan suasana akademik. | E13: UPPS menyediakan sarana dan prasarana serta aksesibiltas yang cukup untuk menjamin pencapaian capaian pembelajaran dan meningkatkan suasana akademik. | F13: UPPS menyediakan sarana dan prasarana serta aksesibiltas yang cukup untuk menjamin pencapaian capaian pembelajaran. | G13: UPPS menyediakan sarana dan prasarana serta aksesibiltas yang tidak cukup untuk menjamin pencapaian capaian pembelajaran. | J13: UPPS | K13: 4 | L13: 3
B14: 5 | C14: Audit internal terhadap pengelolaan keuangan pada Unit Pengelola Program Studi. | D14: Audit internal dilaksanakan secara konsisten dengan tahapan pelaksanaan dilakukan setiap tahun. Terdapat tindak lanjut hasil audit internal pengelolaan keuangan. serta terdapat tinjauan manajemen sebagai bentuk pengendalian. | E14: Audit internal dilaksanakan secara konsisten namun tahapan pelaksanaan tidak dilakukan setiap tahun. Terdapat tindak lanjut hasil audit internal pengelolaan keuangan. | F14: Audit internal dilaksanakan secara konsisten dengan tahapan pelaksanaan dilakukan setiap tahun. Namun tidak terdapat tindak lanjut hasil audit internal pengelolaan keuangan. | G14: Audit internal dilaksanakan secara konsisten namun tahapan pelaksanaan tidak dilakukan setiap tahun dan tidak memiliki tindak lanjut hasil audit internal pengelolaan keuangan. | J14: UPPS | K14: 4 | L14: 4
B15: 6 | C15: Audit internal terhadap pengelolaan sarana dan prasarana pada Unit Pengelola Program Studi | D15: Audit internal dilaksanakan secara konsisten dengan tahapan pelaksanaan dilakukan setiap tahun. Terdapat tindak lanjut hasil audit internal pengelolaan sarana dan prasarana serta terdapat tinjauan manajemen sebagai bentuk pengendalian. | E15: Audit internal dilaksanakan secara konsisten namun tahapan pelaksanaan tidak dilakukan setiap tahun. Terdapat tindak lanjut hasil audit internal pengelolaan sarana dan prasaran. | F15: Audit internal dilaksanakan secara konsisten dengan tahapan pelaksanaan dilakukan setiap tahun. Namun tidak terdapat tindak lanjut hasil audit internal pengelolaan sarana dan prasaran. | G15: Audit internal dilaksanakan secara konsisten namun tahapan pelaksanaan tidak dilakukan setiap tahun dan tidak memiliki tindak lanjut hasil audit internal pengelolaan sarana dan prasaran. | J15: UPPS | K15: 4 | L15: 4
C22: Pertanyaan Singkat | D22: Penilaian Auditee | E22: Penilaian Auditor | F22: Pertanyaan Lengkapnya
B23: 1 | C23: Keuangan : Data penggunaan dana yang dikelola oleh UPPS dan data penggunaan dana yang dialokasikan ke PS | D23: =K8 -> 4 | E23: =L8 -> 3 | F23: =C8 -> Keuangan : data penggunaan dana yang dikelola oleh UPPS dan data penggunaan dana yang dialokasikan ke program studi yang diakreditasi dalam TS diisi di Tabel 4 Biaya operasional pendidikan Sarjana/Sarjana Terapan
B24: 2 | C24: Realisasi investasi (SDM, sarana dan prasarana) yang mendukung penyelenggaraan tridharma. | D24: =K11 -> 4 | E24: =L11 -> 3 | F24: =C11 -> Realisasi investasi (SDM, sarana dan prasarana) yang mendukung penyelenggaraan tridharma.
B25: 3 | C25: Kecukupan dana untuk menjamin pencapaian capaian pembelajaran. | D25: =K12 -> 4 | E25: =L12 -> 3 | F25: =C12 -> Kecukupan dana untuk menjamin pencapaian capaian pembelajaran.
B26: 4 | C26: Sarana dan Prasarana : Kecukupan, aksesibilitas dan mutu sarana dan prasarana untuk menjamin pencapaian CPL dan meningkatkan suasana akademik. | D26: =K13 -> 4 | E26: =L13 -> 3 | F26: =C13 -> Sarana dan Prasarana : Kecukupan, aksesibilitas dan mutu sarana dan prasarana untuk menjamin pencapaian capaian pembelajaran dan meningkatkan suasana akademik.
B27: 5 | C27: Audit internal terhadap pengelolaan keuangan pada Unit Pengelola Program Studi. | D27: =K14 -> 4 | E27: =L14 -> 4 | F27: =C14 -> Audit internal terhadap pengelolaan keuangan pada Unit Pengelola Program Studi.
B28: 6 | C28: Audit internal terhadap pengelolaan sarana dan prasarana pada Unit Pengelola Program Studi | D28: =K15 -> 4 | E28: =L15 -> 4 | F28: =C15 -> Audit internal terhadap pengelolaan sarana dan prasarana pada Unit Pengelola Program Studi

Sheet Kriteria 6
A1: Warna kolom pernyataan | B1: Keterangan
B2: Pertanyaan Per Jenjang
B3: Pengisian Oleh UPPS
B4: Pengisian UPPS / Prodi
A5: Tidak Berwarna | B5: Pengisian Oleh Prodi
H7: Diisi oleh Auditi | L7: Diisi oleh Auditor pada saat Audit Dokumen & Audit Lapangan
A8: Kriteria 6 | B8: No. | C8: Pertanyaan | D8: Skor 4 | E8: Skor 3 | F8: Skor 2 | G8: Skor 1 | H8: Dokumen Pendukung | I8: Link Bukti dukung | J8: Penanggung-jawab/ Pengisi | K8: Skor | L8: Skor | M8: Permintaan Tindakan Koreksi (PTK) | N8: waktu penyelesaian PTK
A9: VI. Pendidikan | B9: 1 | C9: Struktur Kurikulum: Kriteria penilaian: (masing-masing point berbobot 1 sd 4) A. Ketersediaan RPS B. Ketersediaan Modul C. Pelaksanaan Praktikum : 1. Ketersediaan modul 2. Jam Pelaksanaan 3. Tempat Pelaksanaan *Ketersediaan RPS: 100% **Jam pelaksanaan adalah kesesuaian jumlah pembelajaran praktikum (dalam menit) dengan besaran sks praktikum pada RPS. ***Tempat pelaksanaan: skills Lab, wahana praktek dan aksesibilitasnya. | D9: Skor = (A+B+C) / 3 | J9: PRODI | K9: 4 | L9: 4
B10: 2 | C10: Ketersediaan Tempat Praktik Kerja Lapangan dalam Bidang yang sesuai bidang ilmu pada Program Studi. 1. Memiliki dokumen perjanjian kerja sama minimal dua jenis lahan PKL. 2. Jumlah pembimbing lahan PKL dengan rasio pembimbing: mahasiswa = 1:5-8 3. Tempat PKL memiliki Standar Operasional Prosedur (termasuk SOP PKL). 4. Durasi pelaksanaan Praktik Kerja Lapangan sesuai bobot sks (SN-Dikti) | D10: Memenuhi 4 kriteria | E10: Memenuhi 3 kriteria | F10: Memenuhi 2 kriteria | G10: Memenuhi 1 kriteria | J10: PRODI | K10: 4 | L10: 4
B11: 3 | C11: Keunggulan program studi mendukung learning outcome/capaian pembelajaran dan roadmap penelitian dan pengabdian kepada masyarakat secara signifikan, baik dalam teori, praktikum, dan praktik. | D11: Mata kuliah keunggulan program studi sangat mendukung learning outcome/capaian pembelajaran dan roadmap penelitian dan pengabdian kepada masyarakat dalam bentuk teori, praktikum, dan praktik, serta melampaui SN DIKTI. (Integrasi antara pendidikan, penelitian dan PkM) terdapat indikator kinerja tambahan yang melampaui SN DIKTI. (Integrasi antara pendidikan, penelitian dan PkM) | E11: Mata kuliah keunggulan program studi mendukung learningoutcome/capaian pembelajaran dan roadmap penelitian dan pengabdian kepada masyarakat dalam bentuk teori, praktikum, dan praktik. (Integrasi antara pendidikan, penelitian dan PkM) | F11: Mata kuliah keunggulan program studi cukup mendukung learning outcome/capaian pembelajaran dan roadmap penelitian dan pengabdian kepada masyarakat dalam bentuk teori, praktikum, dan praktik. (Integrasi antara pendidikan, penelitian dan PkM) | G11: Mata kuliah keunggulan program studi kurang mendukung learning outcome/capaian pembelajaran dan roadmap penelitian dan pengabdian kepada masyarakat dalam bentuk teori, praktikum, dan praktik. (Integrasi antara pendidikan, penelitian dan PkM) | J11: PRODI | K11: 4 | L11: 4
B12: 4 | C12: Keterlibatan pemangku kepentingan dalam proses evaluasi dan pemutakhiran kurikulum pada program studi. | D12: Evaluasi dan pemutakahiran kurikulum melibatkan pemangku kepentingan internal dan eksternal, serta direview oleh pakar bidang ilmu program studinya. | E12: Evaluasi dan pemutakahiran kurikulum melibatkan pemangku kepentingan internal dan eksternal. | F12: Evaluasi dan pemutakahiran kurikulum melibatkan pemangku kepentingan internal. | G12: Evaluasi dan pemutakahiran kurikulum tidak melibatkan seluruh pemangku kepentingan internal. | J12: PRODI | K12: 4 | L12: 4
B13: 5 | C13: Kesesuaian capaian pembelajaran dengan profil lulusan dan jenjang KKNI/SKKNI yang sesuai pada program studi. | D13: Capaian pembelajaran diturunkan dari profil lulusan dan memenuhi level KKNI serta dimutakhirkan secara berkala tiap 4 sd 5 tahun sesuai perkembangan ipteks dan kebutuhan pengguna | E13: Capaian pembelajaran diturunkan dari profil lulusan dan memenuhinlevel KKNI serta dimutakhirkan secara berkala tiap 4 sd 5 tahun sesuai kebutuhan pengguna | F13: Capaian pembelajaran diturunkan dari profil lulusan dan memenuhi level KKNI. | G13: Capaian pembelajaran diturunkan dari profil lulusan dan tidak memenuhi level KKNI. | J13: PRODI | K13: 4 | L13: 4
B14: 6 | C14: Ketepatan struktur kurikulum dalam pembentukan capaian pembelajaran pada program studi. Catatan: digambarkan dalam peta kompetensi. | D14: Struktur kurikulum sesuai dengan urutan capaian pembelajaran dan digambarkan dalam peta kompetensi, serta memberikan fleksibilitas untuk memfasilitasi keberagaman minat dan bakat melalui MK pilihan. | E14: Struktur kurikulum sesuai dengan urutan capaian pembelajaranndan digambarkan dalam peta kompetensi. | F14: Struktur kurikulum sesuai dengan urutan capaian pembelajaran | G14: Struktur kurikulum tidak sesuai dengan urutan capaian pembelajaran | J14: PRODI | K14: 4 | L14: 4
B15: 7 | C15: Karakteristik proses pembelajaran terdiri atas sifat interaktif, holistik, integratif, saintifik, kontekstual, tematik, efektif, kolaboratif, dan berpusat pada mahasiswa pada program studi. | D15: Terpenuhinya karakteristik proses pembelajaran program studi mencakup sifat interaktif, holistik, integratif, saintifik, kontekstual, tematik, efektif, kolaboratif, dan telah menghasilkan lulusan yang sangat sesuai dengan capaian pembelajaran. | E15: Terpenuhinyakarakteristik proses pembelajaran program studi mencakup sifat interaktif, holistik, integratif, saintifik, kontekstual, efektif, kolaboratif, dan telah menghasilkan lulusan yang sesuai dengan capaian pembelajaran. | F15: Terpenuhinya karakteristik proses pembelajaran program studi mencakup sifat interaktif, holistik, integratif, saintifik, kontekstual kolaboratif, dan berpusat pada mahasiswa serta telah menghasilkan lulusan yang cukup sesuai dengan capaian pembelajaran. | G15: Terpenuhinya karakteristik proses pembelajaran program studi mencakup sifat interaktif, holistik, integratif, saintifik, kontekstual, dan berpusat pada mahasiswa serta telah menghasilkan lulusan yang kurang sesuai dengan capaian pembelajaran | J15: PRODI | K15: 4 | L15: 4
B16: 8 | C16: Mutu Rencana Pembelajaran Semester (RPS) dan dukungan dokumen dengan kedalaman dan keluasan sesuai dengan capaian pembelajaran lulusan pada program studi. Dokumen RPS mencakup: 1. Target capaian pembelajaran, 2. Bahan kajian, 3. Metode pembelajaran 4. Waktu dan tahapan asesmen 5. Hasil capaian pembelajaran 6. Ditinjau dan disesuaikan secara berkala 7. Dapat diakses oleh mahasiswa | D16: Mutu RPS sangat baik dan didukung bukti dokumen lengkap mencakup semua | E16: Mutu RPS baik dan didukung bukti dengan dokumen yang mencakup 5 aspek | F16: Mutu RPS cukup baik dan didukung bukti dengan dokumen yang mencakup 3 aspek | G16: Mutu RPS kurang baik dan didukung bukti dengan dokumen yang mencakup 1 aspek | J16: PRODI | K16: 4 | L16: 4
B17: 9 | C17: Mutu pelaksanaan pembelajaran meliputi proses dan hasil belajar mahasiswa untuk mengukur ketercapaian capaian pembelajaran berdasarkan prinsip penilaian yang mencakup: 1) edukatif, 2) otentik, 3) objektif, 4) akuntabel, dan 5) transparan, yang dilakukan secara terintegrasi pada program studi. | D17: Pelaksanaan pembelajaran melibatkan seluruh dosen tetap pengampu dan pengajar mata kuliah secara penuh semua aspek pengembangan proses pembelajaran dari penyusunan kurikulum, deskripsi, silabus, RPS, sampai dengan evaluasi mencakup 5 prinsip penilaian | E17: Pelaksanaan pembelajaran melibatkan seluruh dosen tetap pengampu dan pengajar mata kuliah secara penuh semua aspek pengembangan proses pembelajaran dari penyusunan kurikulum, deskripsi, silabus, RPS, sampai dengan evaluasi mencakup 1 sampai 4 prinsip penilaian | F17: Pelaksanaan pembelajaran melibatkan seluruh dosen tetap pengampu dan pengajar mata kuliah secara penuh semua aspek pengembangan proses pembelajaran dari penyusunan kurikulum, deskripsi, silabus, RPS, sampai dengan evaluasi mencakup 1 sampai 3 prinsip penilaian | G17: Pelaksanaan pembelajaran melibatkan seluruh dosen tetap pengampu dan pengajar mata kuliah secara penuh semua aspek pengembangan proses pembelajaran dari penyusunan kurikulum, deskripsi, silabus, RPS, sampai dengan evaluasi mencakup 1 sampai 2 prinsip penilaian | J17: PRODI | K17: 4 | L17: 4
B18: 10 | C18: Monitoring dan evaluasi pelaksanaan pembelajaran pada program studi mencakup 1. Karakteristik, 2. Perencanaan, 3. Pelaksanaan proses pembelajaran 4. Beban belajar mahasiswa 5. Dilaksanakan secara konsisten 6. Ditindaklanjuti untuk memperoleh capaian pembelajaran lulusan pada program studi. | D18: Program studi memiliki bukti yang sahih tentang sistem monitoring dan evaluasi pelaksanaan pembelajaran pada program studi mencakup 6 aspek. | E18: Program studi memiliki bukti yang sahih tentang sistem monitoring dan evaluasi pelaksanaan pembelajaran pada program studi mencakup 5 aspek. | F18: Program studi memiliki bukti yang sahih tentang sistem monitoring dan evaluasi pelaksanaan pembelajaran pada program studi mencakup 4 aspek. | G18: Program studi memiliki bukti yang sahih tentang sistem monitoring dan evaluasi pelaksanaan pembelajaran pada program studi mencakup 3 aspek. | J18: PRODI | K18: 4 | L18: 4
B19: 11 | C19: Analisis dan tindak lanjut dari hasil monitoring dan evaluasi terhadap pelaksanaan proses pembelajaran pada program studi. | D19: Analisis dan tindakblanjut dari hasil monitoring dan evaluasi terhadap pelaksanaan proses pembelajaran dilaksanakan setiap semester dan menunjukkan peningkatan mutu proses pembelajaran yang sangat signifikan,serta terdapat tinjauan manajemen sebagai bentuk pengendalian. | E19: Analisis dan tindak lanjut dari hasil monitoring dan evaluasi terhadap pelaksanaan proses pembelajaran dilaksanakan setiap tahun dan menunjukkan peningkatan mutu proses pembelajaran yang signifikan. | F19: Analisis dan tindak lanjut dari hasil monitoring dan evaluasi terhadap pelaksanaan proses pembelajaran dilaksanakan secara berkala (dalam jangka waktu yang tidak pasti) dan menunjukkan peningkatan mutu proses pembelajaran yang cukup signifikan. | G19: Tidak dilakukan analisis dan tindak lanjut dari hasil monitoring dan evaluasi terhadap pelaksanaan proses pembelajaran dan tidak menunjukkan peningkatan mutu proses pembelajaran. | J19: UPPS | K19: 4 | L19: 4
B20: 12 | C20: Keterlaksanaan dan keberkalaan program dan kegiatan di luar kegiatan pembelajaran terstruktur untuk meningkatkan suasana akademik pada program studi. Contoh: kuliah umum/stadium generale, seminar ilmiah, bedah buku. | D20: Semua kegiatan ilmiah di luar kegiatan pembelajaran terstruktur dilaksanakan secara rutin setiap tahun sehingga suasana akademik berjalan sangat baik dan kondusif. | E20: Sebagian kegiatan ilmiah di luar kegiatan pembelajaran terstruktur dilaksanakan secara rutin setiap tahun sehingga suasana akademik berjalan dengan baik. | F20: Kegiatan ilmiah di luar kegiatan pembelajaran terstruktur dilaksanakan hanya dalam bentuk kegiatan kuliah umum dan seminar ilmiah secara rutin setiap tahun sehingga suasana akademik berjalan cukup baik. | G20: Tidak ada kegiatan ilmiah di luar kegiatan pembelajaran terstruktur. | J20: PRODI | K20: 3 | L20: 3
C25: Pertanyaan Singkat | D25: Penilaian Auditee | E25: Penilaian Auditor | F25: Pertanyaan Lengkapnya
B26: 1 | C26: Struktur Kurikulum: Kriteria penilaian | D26: =K9 -> 4 | E26: =L9 -> 4 | F26: =C9 -> Struktur Kurikulum: Kriteria penilaian: (masing-masing point berbobot 1 sd 4) A. Ketersediaan RPS B. Ketersediaan Modul C. Pelaksanaan Praktikum : 1. Ketersediaan modul 2. Jam Pelaksanaan 3. Tempat Pelaksanaan *Ketersediaan RPS: 100% **Jam pelaksanaan adalah kesesuaian jumlah pembelajaran praktikum (dalam menit) dengan besaran sks praktikum pada RPS. ***Tempat pelaksanaan: skills Lab, wahana praktek dan aksesibilitasnya.
B27: 2 | C27: Ketersediaan Tempat Praktik Kerja Lapangan dalam Bidang yang sesuai bidang ilmu pada Program Studi. | D27: =K10 -> 4 | E27: =L10 -> 4 | F27: =C10 -> Ketersediaan Tempat Praktik Kerja Lapangan dalam Bidang yang sesuai bidang ilmu pada Program Studi. 1. Memiliki dokumen perjanjian kerja sama minimal dua jenis lahan PKL. 2. Jumlah pembimbing lahan PKL dengan rasio pembimbing: mahasiswa = 1:5-8 3. Tempat PKL memiliki Standar Operasional Prosedur (termasuk SOP PKL). 4. Durasi pelaksanaan Praktik Kerja Lapangan sesuai bobot sks (SN-Dikti)
B28: 3 | C28: Kecukupan dana untuk menjamin pencapaian capaian pembelajaran. | D28: =K11 -> 4 | E28: =L11 -> 4 | F28: =C11 -> Keunggulan program studi mendukung learning outcome/capaian pembelajaran dan roadmap penelitian dan pengabdian kepada masyarakat secara signifikan, baik dalam teori, praktikum, dan praktik.
B29: 4 | C29: Keterlibatan pemangku kepentingan dalam proses evaluasi dan pemutakhiran kurikulum pada program studi. | D29: =K12 -> 4 | E29: =L12 -> 4 | F29: =C12 -> Keterlibatan pemangku kepentingan dalam proses evaluasi dan pemutakhiran kurikulum pada program studi.
B30: 5 | C30: Kesesuaian capaian pembelajaran dengan profil lulusan dan jenjang KKNI/SKKNI yang sesuai pada program studi. | D30: =K13 -> 4 | E30: =L13 -> 4 | F30: =C13 -> Kesesuaian capaian pembelajaran dengan profil lulusan dan jenjang KKNI/SKKNI yang sesuai pada program studi.
B31: 6 | C31: Ketepatan struktur kurikulum dalam pembentukan capaian pembelajaran pada PS. | D31: =K14 -> 4 | E31: =L14 -> 4 | F31: =C14 -> Ketepatan struktur kurikulum dalam pembentukan capaian pembelajaran pada program studi. Catatan: digambarkan dalam peta kompetensi.
B32: 7 | C32: Karakteristik proses pembelajaran terdiri atas sifat interaktif, holistik, integratif, saintifik, kontekstual, tematik, efektif, kolaboratif, dan berpusat pada mahasiswa pada program studi. | D32: =K15 -> 4 | E32: =L15 -> 4 | F32: =C15 -> Karakteristik proses pembelajaran terdiri atas sifat interaktif, holistik, integratif, saintifik, kontekstual, tematik, efektif, kolaboratif, dan berpusat pada mahasiswa pada program studi.
B33: 8 | C33: Mutu Rencana Pembelajaran Semester (RPS) dan dukungan dokumen dengan kedalaman dan keluasan sesuai dengan capaian pembelajaran lulusan pada program studi. | D33: =K16 -> 4 | E33: =L16 -> 4 | F33: =C16 -> Mutu Rencana Pembelajaran Semester (RPS) dan dukungan dokumen dengan kedalaman dan keluasan sesuai dengan capaian pembelajaran lulusan pada program studi. Dokumen RPS mencakup: 1. Target capaian pembelajaran, 2. Bahan kajian, 3. Metode pembelajaran 4. Waktu dan tahapan asesmen 5. Hasil capaian pembelajaran 6. Ditinjau dan disesuaikan secara berkala 7. Dapat diakses oleh mahasiswa
B34: 9 | C34: Mutu pelaksanaan pembelajaran meliputi proses dan hasil belajar mahasiswa untuk mengukur ketercapaian capaian pembelajaran berdasarkan prinsip penilaian. | D34: =K17 -> 4 | E34: =L17 -> 4 | F34: =C17 -> Mutu pelaksanaan pembelajaran meliputi proses dan hasil belajar mahasiswa untuk mengukur ketercapaian capaian pembelajaran berdasarkan prinsip penilaian yang mencakup: 1) edukatif, 2) otentik, 3) objektif, 4) akuntabel, dan 5) transparan, yang dilakukan secara terintegrasi pada program studi.
B35: 10 | C35: Monitoring dan evaluasi pelaksanaan pembelajaran pada program studi mencakup untuk memperoleh capaian pembelajaran lulusan pada program studi. | D35: =K18 -> 4 | E35: =L18 -> 4 | F35: =C18 -> Monitoring dan evaluasi pelaksanaan pembelajaran pada program studi mencakup 1. Karakteristik, 2. Perencanaan, 3. Pelaksanaan proses pembelajaran 4. Beban belajar mahasiswa 5. Dilaksanakan secara konsisten 6. Ditindaklanjuti untuk memperoleh capaian pembelajaran lulusan pada program studi.
B36: 11 | C36: Analisis dan tindak lanjut dari hasil monitoring dan evaluasi terhadap pelaksanaan proses pembelajaran pada program studi. | D36: =K19 -> 4 | E36: =L19 -> 4 | F36: =C19 -> Analisis dan tindak lanjut dari hasil monitoring dan evaluasi terhadap pelaksanaan proses pembelajaran pada program studi.
B37: 12 | C37: Keterlaksanaan dan keberkalaan program dan kegiatan di luar kegiatan pembelajaran terstruktur untuk meningkatkan suasana akademik pada program studi. | D37: =K20 -> 3 | E37: =L20 -> 3 | F37: =C20 -> Keterlaksanaan dan keberkalaan program dan kegiatan di luar kegiatan pembelajaran terstruktur untuk meningkatkan suasana akademik pada program studi. Contoh: kuliah umum/stadium generale, seminar ilmiah, bedah buku.

Sheet Kriteria 7
A1: Warna kolom pernyataan | B1: Keterangan
B2: Pertanyaan Per Jenjang
B3: Pengisian Oleh UPPS
B4: Pengisian UPPS / Prodi
A5: Tidak Berwarna | B5: Pengisian Oleh Prodi
H7: Diisi oleh Auditi | L7: Diisi oleh Auditor pada saat Audit Dokumen & Audit Lapangan
A8: Kriteria 7 | B8: No. | C8: Pertanyaan | D8: Skor 4 | E8: Skor 3 | F8: Skor 2 | G8: Skor 1 | H8: Dokumen Pendukung | I8: Link Bukti dukung | J8: Penanggung-jawab/ Pengisi | K8: Skor | L8: Skor | M8: Permintaan Tindakan Koreksi (PTK) | N8: waktu penyelesaian PTK
A9: VII. Penelitian | B9: 1 | C9: Relevansi Penelitian untuk Program Sarjana/Sarjana Terapan 1) memiliki peta jalan yang memayungi agenda penelitian dosen dan mahasiswa, 2) dosen dan mahasiswa melaksanakan penelitian sesuai dengan agenda penelitian dosen yang merujuk kepada peta jalan penelitian. 3) melakukan evaluasi kesesuaian penelitian dosen dan mahasiswa dengan peta jalan, dan 4) menggunakan hasil evaluasi untuk perbaikan relevansi penelitian dan pengembangan keilmuan program studi. | D9: Prodi memenuhi 4 unsur relevansi penelitian dosen dan mahasiswa. | E9: Prodi memenuhi unsur 1, 2, dan 3 relevansi penelitian dosen dan mahasiswa. | F9: Prodi memenuhi unsur 1, dan 2 relevansi penelitian dosen dan mahasiswa. | G9: Prodi memenuhi unsur pertama namun penelitian dosen dan mahasiswa tidak sesuai dengan peta jalan. | J9: PRODI | K9: 4 | L9: 4
C10: Relevansi Penelitian untuk Program Master: 1) memiliki peta jalan yang memayungi tema penelitian dosen dan mahasiswa serta pengembangan keilmuan program studi, 2) dosen dan mahasiswa melaksanakan penelitian sesuai dengan agenda penelitian dosen yang merujuk kepada peta jalan penelitian, 3) melakukan evaluasi kesesuaian penelitian dosen dan mahasiswa dengan peta jalan, dan 4) menggunakan hasil evaluasi untuk perbaikan relevansi penelitian dan pengembangan keilmuan program studi. | D10: Prodi memenuhi 4 unsur relevansi penelitian dosen dan mahasiswa. | E10: Prodi memenuhi unsur 1, 2, dan 3 relevansi penelitian dosen dan mahasiswa. | F10: Prodi memenuhi unsur 1, dan 2 relevansi penelitian dosen dan mahasiswa. | G10: Prodi memenuhi unsur pertama namun penelitian dosen dan mahasiswa tidak sesuai dengan peta jalan. | J10: PRODI
C11: Relevansi Penelitian untuk Program Doktor: 1) memiliki peta jalan penelitian yang memayungi agenda penelitian dosen dan mahasiswa serta pengembangan keilmuan program studi dengan mempertimbangkan pendekatan interdisiplin atau multidisiplin, 2) dosen dan mahasiswa melaksanakan penelitian sesuai dengan agenda penelitian dosen yang merujuk kepada peta jalan penelitian. 3) melakukan evaluasi kesesuaian penelitian dosen dan mahasiswa dengan peta jalan, dan 4) menggunakan hasil evaluasi untuk perbaikan relevansi penelitian dan pengembangan keilmuan program studi. | D11: Prodi memenuhi 4 unsur relevansi penelitian dosen dan mahasiswa. | E11: UPPS memenuhi unsur 1, 2, dan 3 relevansi penelitian dosen dan mahasiswa. | F11: UPPS memenuhi unsur 1, dan 2 relevansi penelitian dosen dan mahasiswa. | G11: UPPS memenuhi unsur pertama namun penelitian dosen dan mahasiswa tidak sesuai dengan peta jalan. | J11: PRODI
B12: 2 | C12: Penelitian DTPS yang Melibatkan Mahasiswa
C13: Program Sarjana/Sarjana Terapan | D13: Penelitian DTPS yang melibatkan mahasiswa (PPDM) ≥ 25% | E13: Penelitian DTPS yang melibatkan mahasiswa (PPDM) 10% - 25% | F13: Penelitian DTPS yang melibatkan mahasiswa (PPDM) < 10% | G13: Tidak ada Penelitian DTPS yang melibatkan mahasiswa | J13: PRODI | K13: 4 | L13: 4
C14: Program Magister | D14: Penelitian DTPS yang melibatkan mahasiswa (PPDM) ≥50% | E14: Penelitian DTPS yang melibatkan mahasiswa (PPDM) 25% - 50% | F14: Penelitian DTPS yang melibatkan mahasiswa (PPDM) <25 % | G14: Tidak ada Penelitian DTPS yang melibatkan mahasiswa | J14: PRODI
C15: Program Doktor | D15: Penelitian DTPS yang melibatkan mahasiswa (PPDM) ≥ 75% | E15: Penelitian DTPS yang melibatkan mahasiswa (PPDM) 50% - 75% | F15: Penelitian DTPS yang melibatkan mahasiswa (PPDM) < 50% | G15: Tidak ada Penelitian DTPS yang melibatkan mahasiswa | J15: PRODI
